View In:
ArcGIS JavaScript
ArcGIS Online Map Viewer
ArcGIS Earth
Service Description: City of Appleton 2017 aerial photo
Name: Aerials/City_2017Merc
Description: City of Appleton 2017 aerial photo
Single Fused Map Cache: false
Extent:
XMin: -9846923.22106988
YMin: 5497543.559021461
XMax: -9833096.243460251
YMax: 5521006.780915495
Spatial Reference: 102100
(3857)
Initial Extent:
XMin: -9846923.22106988
YMin: 5497543.559021461
XMax: -9833096.243460251
YMax: 5521006.780915495
Spatial Reference: 102100
(3857)
Full Extent:
XMin: -9846923.22106988
YMin: 5497543.559021461
XMax: -9833096.243460251
YMax: 5521006.780915495
Spatial Reference: 102100
(3857)
Pixel Size X: 0.10665343255089947
Pixel Size Y: 0.10665343255089518
Band Count: 4
Pixel Type: U8
RasterFunction Infos: {"rasterFunctionInfos": [{
"name": "None",
"description": "",
"help": ""
}]}
Mensuration Capabilities: Basic
Inspection Capabilities:
Has Histograms: true
Has Colormap: false
Has Multi Dimensions : false
Rendering Rule:
Min Scale: 0
Max Scale: 0
Copyright Text:
Service Data Type: esriImageServiceDataTypeGeneric
Min Values: 1, 1, 1, 255
Max Values: 255, 255, 255, 255
Mean Values: 124.1226552885, 118.87402229143, 102.64681238918, 255
Standard Deviation Values: 51.725239820929, 49.210090261418, 44.608418135219, 0
Object ID Field:
Fields:
None
Default Mosaic Method: Center
Allowed Mosaic Methods:
SortField:
SortValue: null
Mosaic Operator: First
Default Compression Quality: 75
Default Resampling Method: Bilinear
Max Record Count: null
Max Image Height: 4100
Max Image Width: 15000
Max Download Image Count: null
Max Mosaic Image Count: null
Allow Raster Function: true
Allow Copy: true
Allow Analysis: true
Allow Compute TiePoints: false
Supports Statistics: false
Supports Advanced Queries: false
Use StandardizedQueries: true
Raster Type Infos:
Name: Raster Dataset
Description: Supports all ArcGIS Raster Datasets
Help:
Has Raster Attribute Table: false
Edit Fields Info: null
Ownership Based AccessControl For Rasters: null
Child Resources:
Info
Histograms
Statistics
Key Properties
Legend
Raster Function Infos
Supported Operations:
Export Image
Identify
Measure
Compute Histograms
Compute Statistics Histograms
Get Samples
Compute Class Statistics
Query Boundary
Compute Pixel Location
Compute Angles
Validate
Project